BEGIN:VCALENDAR
VERSION:2.0
PRODID:-//Plumbers &amp; Steamfitters Local Union 33 - ECPv6.15.20//NONSGML v1.0//EN
CALSCALE:GREGORIAN
METHOD:PUBLISH
X-WR-CALNAME:Plumbers &amp; Steamfitters Local Union 33
X-ORIGINAL-URL:https://www.ualocal33.org
X-WR-CALDESC:Events for Plumbers &amp; Steamfitters Local Union 33
REFRESH-INTERVAL;VALUE=DURATION:PT1H
X-Robots-Tag:noindex
X-PUBLISHED-TTL:PT1H
BEGIN:VTIMEZONE
TZID:America/Chicago
BEGIN:DAYLIGHT
TZOFFSETFROM:-0600
TZOFFSETTO:-0500
TZNAME:CDT
DTSTART:20200308T080000
END:DAYLIGHT
BEGIN:STANDARD
TZOFFSETFROM:-0500
TZOFFSETTO:-0600
TZNAME:CST
DTSTART:20201101T070000
END:STANDARD
BEGIN:DAYLIGHT
TZOFFSETFROM:-0600
TZOFFSETTO:-0500
TZNAME:CDT
DTSTART:20210314T080000
END:DAYLIGHT
BEGIN:STANDARD
TZOFFSETFROM:-0500
TZOFFSETTO:-0600
TZNAME:CST
DTSTART:20211107T070000
END:STANDARD
BEGIN:DAYLIGHT
TZOFFSETFROM:-0600
TZOFFSETTO:-0500
TZNAME:CDT
DTSTART:20220313T080000
END:DAYLIGHT
BEGIN:STANDARD
TZOFFSETFROM:-0500
TZOFFSETTO:-0600
TZNAME:CST
DTSTART:20221106T070000
END:STANDARD
END:VTIMEZONE
BEGIN:VEVENT
DTSTART;VALUE=DATE:20210727
DTEND;VALUE=DATE:20210731
DTSTAMP:20260424T082126
CREATED:20210412T184814Z
LAST-MODIFIED:20210412T184814Z
UID:535-1627344000-1627689599@www.ualocal33.org
SUMMARY:Apprenticeship Training Group 1
DESCRIPTION:Group 1 Apprenticeship Training
URL:https://www.ualocal33.org/event/apprenticeship-training-group-1-3/
LOCATION:Hampton Inn Ottumwa\, 943 N Quincy Ave\, Ottumwa\, IA\, 52501\, United States
CATEGORIES:Apprenticeship School Rotation
GEO:41.0146787772;-92.4394637809
X-APPLE-STRUCTURED-LOCATION;VALUE=URI;X-ADDRESS=Hampton Inn Ottumwa 943 N Quincy Ave Ottumwa IA 52501 United States;X-APPLE-RADIUS=500;X-TITLE=943 N Quincy Ave:geo:-92.4394637809,41.0146787772
END:VEVENT
END:VCALENDAR