BEGIN:VCALENDAR
VERSION:2.0
PRODID:-//Plumbers &amp; Steamfitters Local Union 33 - ECPv6.15.20//NONSGML v1.0//EN
CALSCALE:GREGORIAN
METHOD:PUBLISH
X-ORIGINAL-URL:https://www.ualocal33.org
X-WR-CALDESC:Events for Plumbers &amp; Steamfitters Local Union 33
REFRESH-INTERVAL;VALUE=DURATION:PT1H
X-Robots-Tag:noindex
X-PUBLISHED-TTL:PT1H
BEGIN:VTIMEZONE
TZID:America/Chicago
BEGIN:DAYLIGHT
TZOFFSETFROM:-0600
TZOFFSETTO:-0500
TZNAME:CDT
DTSTART:20250309T080000
END:DAYLIGHT
BEGIN:STANDARD
TZOFFSETFROM:-0500
TZOFFSETTO:-0600
TZNAME:CST
DTSTART:20251102T070000
END:STANDARD
BEGIN:DAYLIGHT
TZOFFSETFROM:-0600
TZOFFSETTO:-0500
TZNAME:CDT
DTSTART:20260308T080000
END:DAYLIGHT
BEGIN:STANDARD
TZOFFSETFROM:-0500
TZOFFSETTO:-0600
TZNAME:CST
DTSTART:20261101T070000
END:STANDARD
BEGIN:DAYLIGHT
TZOFFSETFROM:-0600
TZOFFSETTO:-0500
TZNAME:CDT
DTSTART:20270314T080000
END:DAYLIGHT
BEGIN:STANDARD
TZOFFSETFROM:-0500
TZOFFSETTO:-0600
TZNAME:CST
DTSTART:20271107T070000
END:STANDARD
BEGIN:DAYLIGHT
TZOFFSETFROM:-0600
TZOFFSETTO:-0500
TZNAME:CDT
DTSTART:20280312T080000
END:DAYLIGHT
BEGIN:STANDARD
TZOFFSETFROM:-0500
TZOFFSETTO:-0600
TZNAME:CST
DTSTART:20281105T070000
END:STANDARD
BEGIN:DAYLIGHT
TZOFFSETFROM:-0600
TZOFFSETTO:-0500
TZNAME:CDT
DTSTART:20290311T080000
END:DAYLIGHT
BEGIN:STANDARD
TZOFFSETFROM:-0500
TZOFFSETTO:-0600
TZNAME:CST
DTSTART:20291104T070000
END:STANDARD
END:VTIMEZONE
BEGIN:VEVENT
DTSTART;TZID=America/Chicago:20260608T120000
DTEND;TZID=America/Chicago:20260608T133000
DTSTAMP:20260419T123339
CREATED:20230106T165704Z
LAST-MODIFIED:20260106T211441Z
UID:2195-1780920000-1780925400@www.ualocal33.org
SUMMARY:Retiree Luncheon
DESCRIPTION:
URL:https://www.ualocal33.org/event/retiree-luncheon-3/2026-06-08/
LOCATION:Plumbers & Steamfitters Local Union 33 Hall\, 2501 Bell Avenue\, Des Moines\, IA\, 50321\, United States
CATEGORIES:Retiree Luncheon
END:VEVENT
BEGIN:VEVENT
DTSTART;TZID=America/Chicago:20260713T120000
DTEND;TZID=America/Chicago:20260713T133000
DTSTAMP:20260419T123339
CREATED:20230106T165704Z
LAST-MODIFIED:20260106T211442Z
UID:2196-1783944000-1783949400@www.ualocal33.org
SUMMARY:Retiree Luncheon
DESCRIPTION:
URL:https://www.ualocal33.org/event/retiree-luncheon-3/2026-07-13/
LOCATION:Plumbers & Steamfitters Local Union 33 Hall\, 2501 Bell Avenue\, Des Moines\, IA\, 50321\, United States
CATEGORIES:Retiree Luncheon
END:VEVENT
BEGIN:VEVENT
DTSTART;TZID=America/Chicago:20260810T120000
DTEND;TZID=America/Chicago:20260810T133000
DTSTAMP:20260419T123339
CREATED:20230106T165704Z
LAST-MODIFIED:20260106T211442Z
UID:2197-1786363200-1786368600@www.ualocal33.org
SUMMARY:Retiree Luncheon
DESCRIPTION:
URL:https://www.ualocal33.org/event/retiree-luncheon-3/2026-08-10/
LOCATION:Plumbers & Steamfitters Local Union 33 Hall\, 2501 Bell Avenue\, Des Moines\, IA\, 50321\, United States
CATEGORIES:Retiree Luncheon
END:VEVENT
BEGIN:VEVENT
DTSTART;TZID=America/Chicago:20260914T120000
DTEND;TZID=America/Chicago:20260914T133000
DTSTAMP:20260419T123339
CREATED:20230106T165704Z
LAST-MODIFIED:20260106T211443Z
UID:2198-1789387200-1789392600@www.ualocal33.org
SUMMARY:Retiree Luncheon
DESCRIPTION:
URL:https://www.ualocal33.org/event/retiree-luncheon-3/2026-09-14/
LOCATION:Plumbers & Steamfitters Local Union 33 Hall\, 2501 Bell Avenue\, Des Moines\, IA\, 50321\, United States
CATEGORIES:Retiree Luncheon
END:VEVENT
BEGIN:VEVENT
DTSTART;TZID=America/Chicago:20261012T120000
DTEND;TZID=America/Chicago:20261012T133000
DTSTAMP:20260419T123339
CREATED:20230106T165704Z
LAST-MODIFIED:20260106T211443Z
UID:2199-1791806400-1791811800@www.ualocal33.org
SUMMARY:Retiree Luncheon
DESCRIPTION:
URL:https://www.ualocal33.org/event/retiree-luncheon-3/2026-10-12/
LOCATION:Plumbers & Steamfitters Local Union 33 Hall\, 2501 Bell Avenue\, Des Moines\, IA\, 50321\, United States
CATEGORIES:Retiree Luncheon
END:VEVENT
BEGIN:VEVENT
DTSTART;TZID=America/Chicago:20261109T120000
DTEND;TZID=America/Chicago:20261109T133000
DTSTAMP:20260419T123339
CREATED:20230106T165704Z
LAST-MODIFIED:20260106T211444Z
UID:2200-1794225600-1794231000@www.ualocal33.org
SUMMARY:Retiree Luncheon
DESCRIPTION:
URL:https://www.ualocal33.org/event/retiree-luncheon-3/2026-11-09/
LOCATION:Plumbers & Steamfitters Local Union 33 Hall\, 2501 Bell Avenue\, Des Moines\, IA\, 50321\, United States
CATEGORIES:Retiree Luncheon
END:VEVENT
BEGIN:VEVENT
DTSTART;TZID=America/Chicago:20270111T120000
DTEND;TZID=America/Chicago:20270111T133000
DTSTAMP:20260419T123339
CREATED:20230106T165704Z
LAST-MODIFIED:20260106T211444Z
UID:2201-1799668800-1799674200@www.ualocal33.org
SUMMARY:Retiree Luncheon
DESCRIPTION:
URL:https://www.ualocal33.org/event/retiree-luncheon-3/2027-01-11/
LOCATION:Plumbers & Steamfitters Local Union 33 Hall\, 2501 Bell Avenue\, Des Moines\, IA\, 50321\, United States
CATEGORIES:Retiree Luncheon
END:VEVENT
BEGIN:VEVENT
DTSTART;TZID=America/Chicago:20270208T120000
DTEND;TZID=America/Chicago:20270208T133000
DTSTAMP:20260419T123339
CREATED:20230106T165704Z
LAST-MODIFIED:20260106T211445Z
UID:2202-1802088000-1802093400@www.ualocal33.org
SUMMARY:Retiree Luncheon
DESCRIPTION:
URL:https://www.ualocal33.org/event/retiree-luncheon-3/2027-02-08/
LOCATION:Plumbers & Steamfitters Local Union 33 Hall\, 2501 Bell Avenue\, Des Moines\, IA\, 50321\, United States
CATEGORIES:Retiree Luncheon
END:VEVENT
BEGIN:VEVENT
DTSTART;TZID=America/Chicago:20270308T120000
DTEND;TZID=America/Chicago:20270308T133000
DTSTAMP:20260419T123339
CREATED:20230106T165704Z
LAST-MODIFIED:20260106T211446Z
UID:2203-1804507200-1804512600@www.ualocal33.org
SUMMARY:Retiree Luncheon
DESCRIPTION:
URL:https://www.ualocal33.org/event/retiree-luncheon-3/2027-03-08/
LOCATION:Plumbers & Steamfitters Local Union 33 Hall\, 2501 Bell Avenue\, Des Moines\, IA\, 50321\, United States
CATEGORIES:Retiree Luncheon
END:VEVENT
BEGIN:VEVENT
DTSTART;TZID=America/Chicago:20270412T120000
DTEND;TZID=America/Chicago:20270412T133000
DTSTAMP:20260419T123339
CREATED:20230106T165704Z
LAST-MODIFIED:20260106T211447Z
UID:2204-1807531200-1807536600@www.ualocal33.org
SUMMARY:Retiree Luncheon
DESCRIPTION:
URL:https://www.ualocal33.org/event/retiree-luncheon-3/2027-04-12/
LOCATION:Plumbers & Steamfitters Local Union 33 Hall\, 2501 Bell Avenue\, Des Moines\, IA\, 50321\, United States
CATEGORIES:Retiree Luncheon
END:VEVENT
BEGIN:VEVENT
DTSTART;TZID=America/Chicago:20270614T120000
DTEND;TZID=America/Chicago:20270614T133000
DTSTAMP:20260419T123339
CREATED:20230106T165704Z
LAST-MODIFIED:20260106T211447Z
UID:2206-1812974400-1812979800@www.ualocal33.org
SUMMARY:Retiree Luncheon
DESCRIPTION:
URL:https://www.ualocal33.org/event/retiree-luncheon-3/2027-06-14/
LOCATION:Plumbers & Steamfitters Local Union 33 Hall\, 2501 Bell Avenue\, Des Moines\, IA\, 50321\, United States
CATEGORIES:Retiree Luncheon
END:VEVENT
BEGIN:VEVENT
DTSTART;TZID=America/Chicago:20270712T120000
DTEND;TZID=America/Chicago:20270712T133000
DTSTAMP:20260419T123339
CREATED:20230106T165704Z
LAST-MODIFIED:20260106T211448Z
UID:2207-1815393600-1815399000@www.ualocal33.org
SUMMARY:Retiree Luncheon
DESCRIPTION:
URL:https://www.ualocal33.org/event/retiree-luncheon-3/2027-07-12/
LOCATION:Plumbers & Steamfitters Local Union 33 Hall\, 2501 Bell Avenue\, Des Moines\, IA\, 50321\, United States
CATEGORIES:Retiree Luncheon
END:VEVENT
BEGIN:VEVENT
DTSTART;TZID=America/Chicago:20270809T120000
DTEND;TZID=America/Chicago:20270809T133000
DTSTAMP:20260419T123339
CREATED:20230106T165704Z
LAST-MODIFIED:20260106T211448Z
UID:2208-1817812800-1817818200@www.ualocal33.org
SUMMARY:Retiree Luncheon
DESCRIPTION:
URL:https://www.ualocal33.org/event/retiree-luncheon-3/2027-08-09/
LOCATION:Plumbers & Steamfitters Local Union 33 Hall\, 2501 Bell Avenue\, Des Moines\, IA\, 50321\, United States
CATEGORIES:Retiree Luncheon
END:VEVENT
BEGIN:VEVENT
DTSTART;TZID=America/Chicago:20270913T120000
DTEND;TZID=America/Chicago:20270913T133000
DTSTAMP:20260419T123339
CREATED:20230106T165704Z
LAST-MODIFIED:20260106T211449Z
UID:2209-1820836800-1820842200@www.ualocal33.org
SUMMARY:Retiree Luncheon
DESCRIPTION:
URL:https://www.ualocal33.org/event/retiree-luncheon-3/2027-09-13/
LOCATION:Plumbers & Steamfitters Local Union 33 Hall\, 2501 Bell Avenue\, Des Moines\, IA\, 50321\, United States
CATEGORIES:Retiree Luncheon
END:VEVENT
BEGIN:VEVENT
DTSTART;TZID=America/Chicago:20271011T120000
DTEND;TZID=America/Chicago:20271011T133000
DTSTAMP:20260419T123339
CREATED:20230106T165704Z
LAST-MODIFIED:20260106T211449Z
UID:2210-1823256000-1823261400@www.ualocal33.org
SUMMARY:Retiree Luncheon
DESCRIPTION:
URL:https://www.ualocal33.org/event/retiree-luncheon-3/2027-10-11/
LOCATION:Plumbers & Steamfitters Local Union 33 Hall\, 2501 Bell Avenue\, Des Moines\, IA\, 50321\, United States
CATEGORIES:Retiree Luncheon
END:VEVENT
BEGIN:VEVENT
DTSTART;TZID=America/Chicago:20271108T120000
DTEND;TZID=America/Chicago:20271108T133000
DTSTAMP:20260419T123339
CREATED:20230106T165704Z
LAST-MODIFIED:20260106T211450Z
UID:2211-1825675200-1825680600@www.ualocal33.org
SUMMARY:Retiree Luncheon
DESCRIPTION:
URL:https://www.ualocal33.org/event/retiree-luncheon-3/2027-11-08/
LOCATION:Plumbers & Steamfitters Local Union 33 Hall\, 2501 Bell Avenue\, Des Moines\, IA\, 50321\, United States
CATEGORIES:Retiree Luncheon
END:VEVENT
BEGIN:VEVENT
DTSTART;TZID=America/Chicago:20280110T120000
DTEND;TZID=America/Chicago:20280110T133000
DTSTAMP:20260419T123339
CREATED:20230106T165704Z
LAST-MODIFIED:20230106T165704Z
UID:2225-1831118400-1831123800@www.ualocal33.org
SUMMARY:Retiree Luncheon
DESCRIPTION:
URL:https://www.ualocal33.org/event/retiree-luncheon-3/2028-01-10/
LOCATION:Plumbers & Steamfitters Local Union 33 Hall\, 2501 Bell Avenue\, Des Moines\, IA\, 50321\, United States
CATEGORIES:Retiree Luncheon
END:VEVENT
BEGIN:VEVENT
DTSTART;TZID=America/Chicago:20280214T120000
DTEND;TZID=America/Chicago:20280214T133000
DTSTAMP:20260419T123339
CREATED:20230106T165704Z
LAST-MODIFIED:20230106T165704Z
UID:2314-1834142400-1834147800@www.ualocal33.org
SUMMARY:Retiree Luncheon
DESCRIPTION:
URL:https://www.ualocal33.org/event/retiree-luncheon-3/2028-02-14/
LOCATION:Plumbers & Steamfitters Local Union 33 Hall\, 2501 Bell Avenue\, Des Moines\, IA\, 50321\, United States
CATEGORIES:Retiree Luncheon
END:VEVENT
BEGIN:VEVENT
DTSTART;TZID=America/Chicago:20280313T120000
DTEND;TZID=America/Chicago:20280313T133000
DTSTAMP:20260419T123339
CREATED:20230106T165704Z
LAST-MODIFIED:20230106T165704Z
UID:2323-1836561600-1836567000@www.ualocal33.org
SUMMARY:Retiree Luncheon
DESCRIPTION:
URL:https://www.ualocal33.org/event/retiree-luncheon-3/2028-03-13/
LOCATION:Plumbers & Steamfitters Local Union 33 Hall\, 2501 Bell Avenue\, Des Moines\, IA\, 50321\, United States
CATEGORIES:Retiree Luncheon
END:VEVENT
BEGIN:VEVENT
DTSTART;TZID=America/Chicago:20280410T120000
DTEND;TZID=America/Chicago:20280410T133000
DTSTAMP:20260419T123339
CREATED:20230106T165704Z
LAST-MODIFIED:20230106T165704Z
UID:2350-1838980800-1838986200@www.ualocal33.org
SUMMARY:Retiree Luncheon
DESCRIPTION:
URL:https://www.ualocal33.org/event/retiree-luncheon-3/2028-04-10/
LOCATION:Plumbers & Steamfitters Local Union 33 Hall\, 2501 Bell Avenue\, Des Moines\, IA\, 50321\, United States
CATEGORIES:Retiree Luncheon
END:VEVENT
END:VCALENDAR